BEGIN:VCALENDAR
VERSION:2.0
PRODID:spatie/icalendar-generator
DESCRIPTION:Veranstaltungen von Solidarische Landwirtschaft Olfen
X-WR-CALDESC:Veranstaltungen von Solidarische Landwirtschaft Olfen
REFRESH-INTERVAL;VALUE=DURATION:PT1440M
X-PUBLISHED-TTL:PT1440M
BEGIN:VTIMEZONE
TZID:Europe/Berlin
BEGIN:STANDARD
DTSTART:20251026T030000Z
TZOFFSETFROM:+0200
TZOFFSETTO:+0100
END:STANDARD
BEGIN:DAYLIGHT
DTSTART:20260329T020000Z
TZOFFSETFROM:+0100
TZOFFSETTO:+0200
END:DAYLIGHT
BEGIN:STANDARD
DTSTART:20261025T030000Z
TZOFFSETFROM:+0200
TZOFFSETTO:+0100
END:STANDARD
END:VTIMEZONE
BEGIN:VTIMEZONE
TZID:UTC
BEGIN:STANDARD
DTSTART:20250729T033359Z
TZOFFSETFROM:+0000
TZOFFSETTO:+0000
END:STANDARD
END:VTIMEZONE
BEGIN:VEVENT
UID:385-104
DTSTAMP:20260425T033359Z
SUMMARY:work-after-work
LOCATION:Acker der SoLaWi Bockholter Balwe  Olfen  59399
ORGANIZER;CN=admin:MAILTO:m.pack42@googlemail.com
RRULE:FREQ=WEEKLY;UNTIL=20260829T000000Z
DTSTART;TZID=Europe/Berlin:20260506T170000
DTEND;TZID=Europe/Berlin:20260506T200000
X-ALT-DESC;FMTTYPE=TEXT/HTML:
CATEGORIES:work-after-work
URL;VALUE=URI:https://solawi-olfen.de/mc-events/work-after-work-2/?mc_id=38
 5
METHOD:PUBLISH
END:VEVENT
END:VCALENDAR